BEGIN:VCALENDAR
VERSION:2.0
PRODID:-//The Pottery Place - ECPv6.2.9//NONSGML v1.0//EN
CALSCALE:GREGORIAN
METHOD:PUBLISH
X-WR-CALNAME:The Pottery Place
X-ORIGINAL-URL:https://thepotteryplace.com
X-WR-CALDESC:Events for The Pottery Place
REFRESH-INTERVAL;VALUE=DURATION:PT1H
X-Robots-Tag:noindex
X-PUBLISHED-TTL:PT1H
BEGIN:VTIMEZONE
TZID:America/New_York
BEGIN:DAYLIGHT
TZOFFSETFROM:-0500
TZOFFSETTO:-0400
TZNAME:EDT
DTSTART:20250309T070000
END:DAYLIGHT
BEGIN:STANDARD
TZOFFSETFROM:-0400
TZOFFSETTO:-0500
TZNAME:EST
DTSTART:20251102T060000
END:STANDARD
END:VTIMEZONE
BEGIN:VEVENT
DTSTART;TZID=America/New_York:20251205T180000
DTEND;TZID=America/New_York:20251205T193000
DTSTAMP:20260425T100345
CREATED:20250919T155532Z
LAST-MODIFIED:20251009T162706Z
UID:10000432-1764957600-1764963000@thepotteryplace.com
SUMMARY:MAKE WITH ME HOLIDAY WORKSHOP-FRIDAY AGES 2+
DESCRIPTION:Join us for this festive event! Children and adults get to collaborate to paint 2 Ornaments and a Gingerbread House Lantern\nFestive goodies and treats included.\nWhen: Friday\, December 5th     6-7:30\nCost: $55 for 1 Adult & 1 Child\n2 Ornaments & 1Gingerbread House Lantern\nor\n$50 for each additional child with same adult\n(2 Ornaments and 1 Gingerbread House Lantern)\n\n\nRegistration & pre-payment required\nWe are not able to hold class spaces without payment. If you cannot attend a program you have reserved\, please let us know as soon as possible. Though there will be no refunds for cancellations\, if we have a wait list or the class isn’t full we may be able to issue you a studio credit.
URL:https://thepotteryplace.com/event/make-with-me-holiday-workshop-friday-ages-2-2/
ATTACH;FMTTYPE=image/png:https://thepotteryplace.com/wp-content/uploads/2025/09/make-with-me-holiday.png
END:VEVENT
BEGIN:VEVENT
DTSTART;TZID=America/New_York:20251206T103000
DTEND;TZID=America/New_York:20251206T120000
DTSTAMP:20260425T100345
CREATED:20250919T161207Z
LAST-MODIFIED:20250919T161315Z
UID:10000433-1765017000-1765022400@thepotteryplace.com
SUMMARY:MAKE WITH ME HOLIDAY WORKSHOP-SATURDAY AGES 2+
DESCRIPTION:Join us for this festive event! Children and adults get to collaborate to paint 2 Ornaments and 1 Gingerbread House Lantern\nFestive goodies and treats included.\nWhen: Saturday\, December 6th   10:30-12pm\nCost: $55 for 1 Adult & 1 Child\n2 Ornaments & 1 Gingerbread House Lantern\n\n$50 for each additional child with same adult\n (2 Ornaments and 1 Gingerbread House Lantern)\n\nRegistration & pre-payment required\nWe are not able to hold class spaces without payment. If you cannot attend a program you have reserved\, please let us know as soon as possible. Though there will be no refunds for cancellations\, if we have a wait list or the class isn’t full we may be able to issue you a studio credit.
URL:https://thepotteryplace.com/event/make-with-me-holiday-workshop-saturday-ages-2-3/
ATTACH;FMTTYPE=image/png:https://thepotteryplace.com/wp-content/uploads/2025/09/make-with-me-holiday.png
END:VEVENT
END:VCALENDAR