BEGIN:VCALENDAR
VERSION:2.0
PRODID:-//The Pottery Place - ECPv6.2.9//NONSGML v1.0//EN
CALSCALE:GREGORIAN
METHOD:PUBLISH
X-WR-CALNAME:The Pottery Place
X-ORIGINAL-URL:https://thepotteryplace.com
X-WR-CALDESC:Events for The Pottery Place
REFRESH-INTERVAL;VALUE=DURATION:PT1H
X-Robots-Tag:noindex
X-PUBLISHED-TTL:PT1H
BEGIN:VTIMEZONE
TZID:America/New_York
BEGIN:DAYLIGHT
TZOFFSETFROM:-0500
TZOFFSETTO:-0400
TZNAME:EDT
DTSTART:20250309T070000
END:DAYLIGHT
BEGIN:STANDARD
TZOFFSETFROM:-0400
TZOFFSETTO:-0500
TZNAME:EST
DTSTART:20251102T060000
END:STANDARD
END:VTIMEZONE
BEGIN:VEVENT
DTSTART;TZID=America/New_York:20251121T180000
DTEND;TZID=America/New_York:20251121T200000
DTSTAMP:20260425T084202
CREATED:20250926T000050Z
LAST-MODIFIED:20250926T003230Z
UID:10000436-1763748000-1763755200@thepotteryplace.com
SUMMARY:GRANDMAS TREE CLASS 16+
DESCRIPTION:When: Friday\, November 21st\nTime: 6-8PM \nCost: $80+tax includes EVERYTHING! (11″ Slim Ceramic tree\, paints\, glazing\, firing and all the lights for your tree)\nAges: 16 and up\nTREES WILL BE READY FOR PICKUP 1 WEEK FROM THE DATE OF THIS CLASS\nDONT MISS OUT! THIS EVENT SELLS OUT FAST!\n\nReservations & Pre-payment Required\nWe are not able to hold class spaces without payment. If you cannot attend a program you have reserved\, please let us know as soon as possible. Though there will be no refunds for cancellations\, if we have a wait list or the class isn’t full we may be able to issue you a studio credit.
URL:https://thepotteryplace.com/event/grandmas-tree-class-16-4/
ATTACH;FMTTYPE=image/png:https://thepotteryplace.com/wp-content/uploads/2025/09/tree.png
END:VEVENT
END:VCALENDAR