BEGIN:VCALENDAR
VERSION:2.0
PRODID:-//The Pottery Place - ECPv6.2.9//NONSGML v1.0//EN
CALSCALE:GREGORIAN
METHOD:PUBLISH
X-WR-CALNAME:The Pottery Place
X-ORIGINAL-URL:https://thepotteryplace.com
X-WR-CALDESC:Events for The Pottery Place
REFRESH-INTERVAL;VALUE=DURATION:PT1H
X-Robots-Tag:noindex
X-PUBLISHED-TTL:PT1H
BEGIN:VTIMEZONE
TZID:America/New_York
BEGIN:DAYLIGHT
TZOFFSETFROM:-0500
TZOFFSETTO:-0400
TZNAME:EDT
DTSTART:20220313T070000
END:DAYLIGHT
BEGIN:STANDARD
TZOFFSETFROM:-0400
TZOFFSETTO:-0500
TZNAME:EST
DTSTART:20221106T060000
END:STANDARD
END:VTIMEZONE
BEGIN:VEVENT
DTSTART;TZID=America/New_York:20221119T190000
DTEND;TZID=America/New_York:20221119T210000
DTSTAMP:20260425T065548
CREATED:20220813T024956Z
LAST-MODIFIED:20220825T010105Z
UID:10000269-1668884400-1668891600@thepotteryplace.com
SUMMARY:CLASSIC TREE CLASS  AGES 16+
DESCRIPTION:Paint a Ceramic Christmas Tree just like Grandma used to have.  \nWhen: Saturday\, November 19th\nTime: 7-9 PM \nCost: $75+tax includes EVERYTHING! (Ceramic tree 14″ including the base\, paints\, glazing\, firing and all the lights for your tree)\nAges: 16 and up!\nDONT MISS OUT THIS EVENT SELLS OUT FAST!\n\nReservations & Pre-payment Required\nWe are not able to hold class spaces without payment. If you cannot attend a program you have reserved\, please let us know as soon as possible. Though there will be no refunds for cancellations\, if we have a wait list or the class isn’t full we may be able to issue you a studio credit.
URL:https://thepotteryplace.com/event/classic-tree-class-ages-16/
LOCATION:1475 Western Ave\, Albany\, NY\, 12203\, United States
ATTACH;FMTTYPE=image/jpeg:https://thepotteryplace.com/wp-content/uploads/2021/09/Collage_HD-2021-09-17-20_36_18-scaled-e1631925482512.jpg
GEO:42.6840936;-73.839612
X-APPLE-STRUCTURED-LOCATION;VALUE=URI;X-ADDRESS=1475 Western Ave Albany NY 12203 United States;X-APPLE-RADIUS=500;X-TITLE=1475 Western Ave:geo:-73.839612,42.6840936
END:VEVENT
END:VCALENDAR