BEGIN:VCALENDAR
VERSION:2.0
PRODID:-//The Pottery Place - ECPv6.2.9//NONSGML v1.0//EN
CALSCALE:GREGORIAN
METHOD:PUBLISH
X-WR-CALNAME:The Pottery Place
X-ORIGINAL-URL:https://thepotteryplace.com
X-WR-CALDESC:Events for The Pottery Place
REFRESH-INTERVAL;VALUE=DURATION:PT1H
X-Robots-Tag:noindex
X-PUBLISHED-TTL:PT1H
BEGIN:VTIMEZONE
TZID:America/New_York
BEGIN:DAYLIGHT
TZOFFSETFROM:-0500
TZOFFSETTO:-0400
TZNAME:EDT
DTSTART:20220313T070000
END:DAYLIGHT
BEGIN:STANDARD
TZOFFSETFROM:-0400
TZOFFSETTO:-0500
TZNAME:EST
DTSTART:20221106T060000
END:STANDARD
END:VTIMEZONE
BEGIN:VEVENT
DTSTART;TZID=America/New_York:20221030T120000
DTEND;TZID=America/New_York:20221030T180000
DTSTAMP:20260424T143100
CREATED:20220823T005306Z
LAST-MODIFIED:20220823T005334Z
UID:10000271-1667131200-1667152800@thepotteryplace.com
SUMMARY:SPOOKY HALLOWEEN SPECIAL
DESCRIPTION:SPOOKY HALLOWEEN SPECIAL \nWhen: Sunday\, October 30th 12-6pm \n25% off all halloween themed pieces painted in studio. Halloween candy and goodies included. \nThis is a walk in event.
URL:https://thepotteryplace.com/event/spooky-halloween-special-2/
LOCATION:1475 Western Ave\, Albany\, NY\, 12203\, United States
ATTACH;FMTTYPE=image/jpeg:https://thepotteryplace.com/wp-content/uploads/2022/08/spooky.jpg
GEO:42.6840936;-73.839612
X-APPLE-STRUCTURED-LOCATION;VALUE=URI;X-ADDRESS=1475 Western Ave Albany NY 12203 United States;X-APPLE-RADIUS=500;X-TITLE=1475 Western Ave:geo:-73.839612,42.6840936
END:VEVENT
BEGIN:VEVENT
DTSTART;TZID=America/New_York:20221104T180000
DTEND;TZID=America/New_York:20221104T193000
DTSTAMP:20260424T143100
CREATED:20220823T015219Z
LAST-MODIFIED:20221104T101221Z
UID:10000272-1667584800-1667590200@thepotteryplace.com
SUMMARY:MAKE WITH ME GOBBLER WORKSHOP
DESCRIPTION:Make With Me Gobbler Workshop\nWhen: Friday\, November 4th  6-7:30pm \nIncludes: 1 Plate and 1 Gobbler\nCost: $40+tax\n$35 for additional child with same adult\nJoin us for this fun Thanksgiving Workshop. \nFestive treats included.\n We will assist with handprints that adults can turn into Turkeys\, while each child will have a Gobbler figurine to paint.\nRegistration & pre-payment required\nWe are not able to hold class spaces without payment. If you cannot attend a program you have reserved\, please let us know as soon as possible. Though there will be no refunds for cancellations\, if we have a wait list or the class isn’t full we may be able to issue you a studio credit.
URL:https://thepotteryplace.com/event/make-with-me-gobbler-workshop-2/
LOCATION:1475 Western Ave\, Albany\, NY\, 12203\, United States
ATTACH;FMTTYPE=image/jpeg:https://thepotteryplace.com/wp-content/uploads/2022/08/turkey-handprint.jpg
GEO:42.6840936;-73.839612
X-APPLE-STRUCTURED-LOCATION;VALUE=URI;X-ADDRESS=1475 Western Ave Albany NY 12203 United States;X-APPLE-RADIUS=500;X-TITLE=1475 Western Ave:geo:-73.839612,42.6840936
END:VEVENT
BEGIN:VEVENT
DTSTART;TZID=America/New_York:20221105T103000
DTEND;TZID=America/New_York:20221105T120000
DTSTAMP:20260424T143100
CREATED:20220825T013707Z
LAST-MODIFIED:20221104T100934Z
UID:10000273-1667644200-1667649600@thepotteryplace.com
SUMMARY:MAKE WITH ME GOBBLER WORKSHOP
DESCRIPTION:Make With Me Gobbler Workshop\nWhen: Saturday\, November 5th  10:30-12pm\nIncludes: 1 Plate and 1 Gobbler\nCost: $40+tax\n$35 for additional child with same adult\nJoin us for this fun Thanksgiving Workshop. \nFestive treats included.\n We will assist with handprints that adults can turn into Turkeys\, while each child will have a Gobbler figurine to paint.\nRegistration & pre-payment required\nWe are not able to hold class spaces without payment. If you cannot attend a program you have reserved\, please let us know as soon as possible. Though there will be no refunds for cancellations\, if we have a wait list or the class isn’t full we may be able to issue you a studio credit.
URL:https://thepotteryplace.com/event/make-with-me-gobbler-workshop-3/
LOCATION:1475 Western Ave\, Albany\, NY\, 12203\, United States
ATTACH;FMTTYPE=image/jpeg:https://thepotteryplace.com/wp-content/uploads/2022/08/turkey-handprint.jpg
GEO:42.6840936;-73.839612
X-APPLE-STRUCTURED-LOCATION;VALUE=URI;X-ADDRESS=1475 Western Ave Albany NY 12203 United States;X-APPLE-RADIUS=500;X-TITLE=1475 Western Ave:geo:-73.839612,42.6840936
END:VEVENT
END:VCALENDAR