BEGIN:VCALENDAR
VERSION:2.0
PRODID:-//The Pottery Place - ECPv6.2.9//NONSGML v1.0//EN
CALSCALE:GREGORIAN
METHOD:PUBLISH
X-ORIGINAL-URL:https://thepotteryplace.com
X-WR-CALDESC:Events for The Pottery Place
REFRESH-INTERVAL;VALUE=DURATION:PT1H
X-Robots-Tag:noindex
X-PUBLISHED-TTL:PT1H
BEGIN:VTIMEZONE
TZID:America/New_York
BEGIN:DAYLIGHT
TZOFFSETFROM:-0500
TZOFFSETTO:-0400
TZNAME:EDT
DTSTART:20220313T070000
END:DAYLIGHT
BEGIN:STANDARD
TZOFFSETFROM:-0400
TZOFFSETTO:-0500
TZNAME:EST
DTSTART:20221106T060000
END:STANDARD
END:VTIMEZONE
BEGIN:VEVENT
DTSTART;TZID=America/New_York:20220429T183000
DTEND;TZID=America/New_York:20220429T193000
DTSTAMP:20260421T010850
CREATED:20200112T203328Z
LAST-MODIFIED:20220427T120747Z
UID:10000238-1651257000-1651260600@thepotteryplace.com
SUMMARY:Storytime My Mom Is Magical Friday Ages 2-6
DESCRIPTION:Storytime at The Pottery Place is a special story hour designed for 2 to 6 year olds. We request one adult guardian per child. Each Storytime session is 1 hour long.\nStory: My Mom Is Magical \nProject: Teardrop Bud Vase \nWhen: Friday\, April 29th 6:30-7:30 PM \nCost: $20 per child \n  \n*Registration and prepayment required
URL:https://thepotteryplace.com/event/storytime-my-mom-is-magical-friday/
LOCATION:1475 Western Ave\, Albany\, NY\, 12203\, United States
ATTACH;FMTTYPE=image/jpeg:https://thepotteryplace.com/wp-content/uploads/2020/01/MY-MOM-IS-MAGICAL.jpg
GEO:42.6840936;-73.839612
X-APPLE-STRUCTURED-LOCATION;VALUE=URI;X-ADDRESS=1475 Western Ave Albany NY 12203 United States;X-APPLE-RADIUS=500;X-TITLE=1475 Western Ave:geo:-73.839612,42.6840936
END:VEVENT
BEGIN:VEVENT
DTSTART;TZID=America/New_York:20220430T103000
DTEND;TZID=America/New_York:20220430T113000
DTSTAMP:20260421T010850
CREATED:20200112T203205Z
LAST-MODIFIED:20220427T120003Z
UID:10000237-1651314600-1651318200@thepotteryplace.com
SUMMARY:Storytime My Mom Is Magical ages 2-6  Saturday
DESCRIPTION:Storytime at The Pottery Place is a special story hour designed for 2 to 6 year olds. We request one adult guardian per child. Each Storytime session is 1 hour long.\nStory:  My Mom Is Magical \nProject: Teardrop Bud Vase \nWhen: Saturday\, April 30th 10:30-11:30 AM \nCost: $20 per child \n  \n*Registration and prepayment required
URL:https://thepotteryplace.com/event/storytime-my-mom-is-magical-ages-2-6-saturday/
LOCATION:1475 Western Ave\, Albany\, NY\, 12203\, United States
ATTACH;FMTTYPE=image/jpeg:https://thepotteryplace.com/wp-content/uploads/2020/01/MY-MOM-IS-MAGICAL.jpg
GEO:42.6840936;-73.839612
X-APPLE-STRUCTURED-LOCATION;VALUE=URI;X-ADDRESS=1475 Western Ave Albany NY 12203 United States;X-APPLE-RADIUS=500;X-TITLE=1475 Western Ave:geo:-73.839612,42.6840936
END:VEVENT
END:VCALENDAR