BEGIN:VCALENDAR
VERSION:2.0
PRODID:-//The Pottery Place - ECPv6.2.9//NONSGML v1.0//EN
CALSCALE:GREGORIAN
METHOD:PUBLISH
X-WR-CALNAME:The Pottery Place
X-ORIGINAL-URL:https://thepotteryplace.com
X-WR-CALDESC:Events for The Pottery Place
REFRESH-INTERVAL;VALUE=DURATION:PT1H
X-Robots-Tag:noindex
X-PUBLISHED-TTL:PT1H
BEGIN:VTIMEZONE
TZID:America/New_York
BEGIN:DAYLIGHT
TZOFFSETFROM:-0500
TZOFFSETTO:-0400
TZNAME:EDT
DTSTART:20200308T070000
END:DAYLIGHT
BEGIN:STANDARD
TZOFFSETFROM:-0400
TZOFFSETTO:-0500
TZNAME:EST
DTSTART:20201101T060000
END:STANDARD
END:VTIMEZONE
BEGIN:VEVENT
DTSTART;TZID=America/New_York:20200201T100000
DTEND;TZID=America/New_York:20200201T120000
DTSTAMP:20260419T225326
CREATED:20191114T210441Z
LAST-MODIFIED:20200131T223846Z
UID:10000231-1580551200-1580558400@thepotteryplace.com
SUMMARY:Ice Princess Party
DESCRIPTION:Ice Princess Party\nWhen: Saturday\, February 1st \nTime: 10 AM- Noon \nCost: $45 per child. Includes themed plate to paint. Please choose an Elsa/Anna or Olaf/Sven theme when you register below. \nPizza lunch\, snow cone\, meet and greet with the enchanted sisters and lots of goodies and fun! \n\n\nRegistration and Pre-Payment required.
URL:https://thepotteryplace.com/event/ice-princess-party/
LOCATION:1475 Western Ave\, Albany\, NY\, 12203\, United States
ATTACH;FMTTYPE=image/jpeg:https://thepotteryplace.com/wp-content/uploads/2019/11/ice.jpg
END:VEVENT
END:VCALENDAR