BEGIN:VCALENDAR
VERSION:2.0
PRODID:-//The Pottery Place - ECPv6.2.9//NONSGML v1.0//EN
CALSCALE:GREGORIAN
METHOD:PUBLISH
X-ORIGINAL-URL:https://thepotteryplace.com
X-WR-CALDESC:Events for The Pottery Place
REFRESH-INTERVAL;VALUE=DURATION:PT1H
X-Robots-Tag:noindex
X-PUBLISHED-TTL:PT1H
BEGIN:VTIMEZONE
TZID:America/New_York
BEGIN:DAYLIGHT
TZOFFSETFROM:-0500
TZOFFSETTO:-0400
TZNAME:EDT
DTSTART:20200308T070000
END:DAYLIGHT
BEGIN:STANDARD
TZOFFSETFROM:-0400
TZOFFSETTO:-0500
TZNAME:EST
DTSTART:20201101T060000
END:STANDARD
END:VTIMEZONE
BEGIN:VEVENT
DTSTART;TZID=America/New_York:20200116T080000
DTEND;TZID=America/New_York:20200116T170000
DTSTAMP:20260422T062842
CREATED:20200116T170714Z
LAST-MODIFIED:20200116T171035Z
UID:10000245-1579161600-1579194000@thepotteryplace.com
SUMMARY:Memorial Day Bowl
DESCRIPTION:Paint a patriotic bowl\, perfect for your salad serving needs at all those summer picnics & cook-outs.\nEvent: Memorial Day Bowl \nDate: Thursday\, May 7th 6-8 PM \nCost: $40 per painter\, includes square serving bowl\, all paints & supplies to do a fun bubble & star design. \n  \n*Reservations and prepayment required \n 
URL:https://thepotteryplace.com/event/memorial-day-bowl/
LOCATION:1475 Western Ave\, Albany\, NY\, 12203\, United States
ATTACH;FMTTYPE=image/png:https://thepotteryplace.com/wp-content/uploads/2020/01/memorialdaybowl-e1581395612485.png
END:VEVENT
BEGIN:VEVENT
DTSTART;TZID=America/New_York:20200117T183000
DTEND;TZID=America/New_York:20200117T193000
DTSTAMP:20260422T062842
CREATED:20190912T184328Z
LAST-MODIFIED:20191013T182858Z
UID:10000219-1579285800-1579289400@thepotteryplace.com
SUMMARY:STORYTIME THE LOST NARWHAL AGES 2-6
DESCRIPTION:  \nStorytime at The Pottery Place is a special story hour designed for 2 to 6 year olds and their parents. Each Storytime session is 1 hour long.\nStory: The Lost Narwhal\nPiece: Narwhal Mug\nDate: Friday\, Jan 17\nTime: 6:30-7:30 PM\nAge: 2-6\nPrice: $18 plus tax \nReservations ARE required. Payment is nonrefundable if you have to cancel or don’t show up.
URL:https://thepotteryplace.com/event/storytime-the-lost-narwhal-ages-2-6/
LOCATION:1475 Western Ave\, Albany\, NY\, 12203\, United States
ATTACH;FMTTYPE=image/jpeg:https://thepotteryplace.com/wp-content/uploads/2019/09/the-lost-narwhal-book.jpeg
END:VEVENT
BEGIN:VEVENT
DTSTART;TZID=America/New_York:20200118T103000
DTEND;TZID=America/New_York:20200118T113000
DTSTAMP:20260422T062842
CREATED:20190912T185616Z
LAST-MODIFIED:20191111T144623Z
UID:10000220-1579343400-1579347000@thepotteryplace.com
SUMMARY:STORYTIME THE LOST NARWHAL 2-6 YEAR OLDS
DESCRIPTION:Storytime at The Pottery Place is a special story hour designed for 2 to 6 year olds and their parents. Each Storytime session is 1 hour long.\nStory: The Lost Narwhal\nPiece: Narwhal Mug\nDate: Saturday\, Jan 18th\nTime: 10:30-11:30 AM\nAge: 2-6\nPrice: $18 plus tax \nReservations ARE required. Payment is nonrefundable if you have to cancel or don’t show up.
URL:https://thepotteryplace.com/event/storytime-the-lost-narwhal-2-6-year-olds/
LOCATION:1475 Western Ave\, Albany\, NY\, 12203\, United States
ATTACH;FMTTYPE=image/jpeg:https://thepotteryplace.com/wp-content/uploads/2019/09/the-lost-narwhal-book.jpeg
END:VEVENT
END:VCALENDAR