BEGIN:VCALENDAR
VERSION:2.0
PRODID:-//The Pottery Place - ECPv6.2.9//NONSGML v1.0//EN
CALSCALE:GREGORIAN
METHOD:PUBLISH
X-ORIGINAL-URL:https://thepotteryplace.com
X-WR-CALDESC:Events for The Pottery Place
REFRESH-INTERVAL;VALUE=DURATION:PT1H
X-Robots-Tag:noindex
X-PUBLISHED-TTL:PT1H
BEGIN:VTIMEZONE
TZID:America/New_York
BEGIN:DAYLIGHT
TZOFFSETFROM:-0500
TZOFFSETTO:-0400
TZNAME:EDT
DTSTART:20200308T070000
END:DAYLIGHT
BEGIN:STANDARD
TZOFFSETFROM:-0400
TZOFFSETTO:-0500
TZNAME:EST
DTSTART:20201101T060000
END:STANDARD
END:VTIMEZONE
BEGIN:VEVENT
DTSTART;TZID=America/New_York:20200110T180000
DTEND;TZID=America/New_York:20200110T193000
DTSTAMP:20260420T091934
CREATED:20190912T193202Z
LAST-MODIFIED:20190913T194422Z
UID:10000223-1578679200-1578684600@thepotteryplace.com
SUMMARY:CREATIVE KIDS OWL SPECIALTY GLAZE PLATE 6-12 YEAR OLDS
DESCRIPTION:Creative Kids is a multimedia arts and crafts class designed to encourage older kids creativity using a variety of mediums!\nSpace is very limited so call to sign up today! \nProject: Owl Specialty Glaze Plate\nDate: Friday\, Jan 10th\nTime: 6-7:30pm\nAges:6-12\nCost: $25 per child per class\, all supplies included.\nThis is a drop off event. \nAS ALWAYS RESERVATIONS ARE REQUIRED AND NONREFUNDABLE IF YOU CANCEL OR DON’T SHOW UP.
URL:https://thepotteryplace.com/event/creative-kids-owl-specialty-glaze-plate-6-12-year-olds/
LOCATION:1475 Western Ave\, Albany\, NY\, 12203\, United States
ATTACH;FMTTYPE=image/png:https://thepotteryplace.com/wp-content/uploads/2019/09/owlplate.png
END:VEVENT
BEGIN:VEVENT
DTSTART;TZID=America/New_York:20200111T100000
DTEND;TZID=America/New_York:20200111T140000
DTSTAMP:20260420T091934
CREATED:20190912T213449Z
LAST-MODIFIED:20190913T195059Z
UID:10000226-1578736800-1578751200@thepotteryplace.com
SUMMARY:SLIME DAY
DESCRIPTION:  \nSlime has been a favorite camp project the past couple of Summer’s so we figured why not make a day of it! WE will have supplies for a basic slime recipe & lots of different color and glitter options. \nDate: Saturday\, Jan 11th \nTime: 10-2 PM \nCost: $8 per batch\, $5 for second batch or as an add-on to same day pottery painting for the same person. \n 
URL:https://thepotteryplace.com/event/slime-day/
LOCATION:1475 Western Ave\, Albany\, NY\, 12203\, United States
ATTACH;FMTTYPE=image/png:https://thepotteryplace.com/wp-content/uploads/2019/09/paintdrip.png
END:VEVENT
END:VCALENDAR