BEGIN:VCALENDAR
VERSION:2.0
PRODID:-//The Pottery Place - ECPv6.2.9//NONSGML v1.0//EN
CALSCALE:GREGORIAN
METHOD:PUBLISH
X-ORIGINAL-URL:https://thepotteryplace.com
X-WR-CALDESC:Events for The Pottery Place
REFRESH-INTERVAL;VALUE=DURATION:PT1H
X-Robots-Tag:noindex
X-PUBLISHED-TTL:PT1H
BEGIN:VTIMEZONE
TZID:America/New_York
BEGIN:DAYLIGHT
TZOFFSETFROM:-0500
TZOFFSETTO:-0400
TZNAME:EDT
DTSTART:20190310T070000
END:DAYLIGHT
BEGIN:STANDARD
TZOFFSETFROM:-0400
TZOFFSETTO:-0500
TZNAME:EST
DTSTART:20191103T060000
END:STANDARD
END:VTIMEZONE
BEGIN:VEVENT
DTSTART;TZID=America/New_York:20191129T180000
DTEND;TZID=America/New_York:20191129T200000
DTSTAMP:20260422T075830
CREATED:20191027T200340Z
LAST-MODIFIED:20191121T155220Z
UID:10000230-1575050400-1575057600@thepotteryplace.com
SUMMARY:Big Llama Mama Light Up Class 16+
DESCRIPTION:Love llamas? Love one of a kind holidays decorations? Then this class is for you! Paint a llama however you’d like and yes! It lights up! \nWhen: Friday\, November 29th\nTime: 6-8pm (may go a little longer)\nCost: $80+tax includes EVERYTHING! (Ceramic llama\, paints\, glazing\, firing and all the lights for your llama)\nAges: 18 and up!\nWhen you call or sign up online  (518-446-0870) you can either pay the full amount or a 50% deposit of $40 (to hold your spot) \nIf you were to paint this llama in our studio it would cost $100! This is a KILLER deal! Don’t miss out we only have a handful of spots available. \nJust a friendly reminder it will take us 1 week to glaze and fire your llamas! \nReservations ARE required. Payment is nonrefundable if you have to cancel or don’t show up. \n\n\nSee Less
URL:https://thepotteryplace.com/event/big-llama-mama-light-up-class-18/
LOCATION:1475 Western Ave\, Albany\, NY\, 12203\, United States
ATTACH;FMTTYPE=image/jpeg:https://thepotteryplace.com/wp-content/uploads/2019/10/llama.jpg
END:VEVENT
BEGIN:VEVENT
DTSTART;TZID=America/New_York:20191130T190000
DTEND;TZID=America/New_York:20191130T210000
DTSTAMP:20260422T075830
CREATED:20190930T202259Z
LAST-MODIFIED:20191129T212957Z
UID:10000229-1575140400-1575147600@thepotteryplace.com
SUMMARY:Grandmas Tree Class 18+
DESCRIPTION:SOLD OUT \n  \nPaint a Ceramic Christmas Tree just like Grandma used to have. This class is a once in a lifetime class with HUGE discounts! Like and share with all your friends so everyone knows about it! \nWhen: Friday\, November 30th\nTime: 7-9 PM ( Full Studio Event After Closing)\nCost: $70+tax includes EVERYTHING! (Ceramic tree & its base\, paints\, glazing\, firing and all the lights for your tree)\nAges: 18 and up!\nWhen you call or sign up online (518-446-0870) you can either pay the full amount or a 50% deposit of $35! (to hold your spot) \nIf you were to paint this tree in our studio the tree alone would cost $90. This is a KILLER deal! Don’t miss out we only have a handful of spots available. \nThis large event will take us 2 weeks to glaze and fire! \nReservations ARE required. Payment is nonrefundable if you have to cancel or don’t show up. \n\n\n 
URL:https://thepotteryplace.com/event/grandmas-tree-class-18-nov-30-2019/
LOCATION:1475 Western Ave\, Albany\, NY\, 12203\, United States
ATTACH;FMTTYPE=image/jpeg:https://thepotteryplace.com/wp-content/uploads/2019/06/tree.jpg
END:VEVENT
END:VCALENDAR