BEGIN:VCALENDAR
VERSION:2.0
PRODID:-//The Pottery Place - ECPv6.2.9//NONSGML v1.0//EN
CALSCALE:GREGORIAN
METHOD:PUBLISH
X-ORIGINAL-URL:https://thepotteryplace.com
X-WR-CALDESC:Events for The Pottery Place
REFRESH-INTERVAL;VALUE=DURATION:PT1H
X-Robots-Tag:noindex
X-PUBLISHED-TTL:PT1H
BEGIN:VTIMEZONE
TZID:America/New_York
BEGIN:DAYLIGHT
TZOFFSETFROM:-0500
TZOFFSETTO:-0400
TZNAME:EDT
DTSTART:20250309T070000
END:DAYLIGHT
BEGIN:STANDARD
TZOFFSETFROM:-0400
TZOFFSETTO:-0500
TZNAME:EST
DTSTART:20251102T060000
END:STANDARD
END:VTIMEZONE
BEGIN:VEVENT
DTSTART;TZID=America/New_York:20251010T180000
DTEND;TZID=America/New_York:20251010T193000
DTSTAMP:20260425T204324
CREATED:20250803T142952Z
LAST-MODIFIED:20250924T163828Z
UID:10000424-1760119200-1760124600@thepotteryplace.com
SUMMARY:CREATIVE KIDS- FUZZY YARN JACK-O-LANTERN  AGES 6-12
DESCRIPTION:Creative Kids is a multimedia arts and crafts class designed to encourage older kids creativity using a variety of mediums!\nSpace is very limited so call or sign up online today!\nProject: Fuzzy Yarn Jack-O-Lantern\nDate: Friday\, October 10th\nTime: 6-7:30pm\nAges:6-12\nCost: $40 per child per class\, all supplies included.\nThis is a drop off event.\nRegistration & Prepayment Required \nWe are not able to hold class spaces without payment. If you cannot attend a program you have reserved\, please let us know as soon as possible. Though there will be no refunds for cancellations\, if we have a wait list or the class isn’t full we may be able to issue you a studio credit.\n\n\n\n\n Add to calendar 
URL:https://thepotteryplace.com/event/creative-kids-fuzzy-yarn-jack-o-lantern-ages-6-12/
ATTACH;FMTTYPE=image/jpeg:https://thepotteryplace.com/wp-content/uploads/2025/08/yarn-jack.jpeg
END:VEVENT
BEGIN:VEVENT
DTSTART;TZID=America/New_York:20251017T183000
DTEND;TZID=America/New_York:20251017T193000
DTSTAMP:20260425T204324
CREATED:20250813T191535Z
LAST-MODIFIED:20250816T161338Z
UID:10000430-1760725800-1760729400@thepotteryplace.com
SUMMARY:STORYTIME-TRICK OR TREAT\, BUGS TO EAT-AGES 2-6 FRIDAY
DESCRIPTION:STORYTIME AT THE POTTERY PLACE IS A SPECIAL STORY HOUR DESIGNED FOR 2-6 YEAR OLDS AND THEIR PARENTS. OUR STUDIO MANAGER AND ART INSTRUCTOR\, TAIRYN WILL READ THE CHILDREN A STORY AND THEN THEY WILL PAINT A PIECE THAT COORDINATES WITH THAT STORY.\n\nStorytime: Trick or Treat\, Bugs to Eat\nProject: Fangs the Bat\nWhen: Friday\, October 17th – 6:30-7:30pm\nCost: $24.00\nRegistration & Pre-payment Required\nWe are not able to hold class spaces without payment. If you cannot attend a program you have reserved\, please let us know as soon as possible. Though there will be no refunds for cancellations\, if we have a wait list or the class isn’t full we may be able to issue you a studio credit.
URL:https://thepotteryplace.com/event/storytime-trick-or-treat-bugs-to-eat-ages-2-6-friday/
ATTACH;FMTTYPE=image/jpeg:https://thepotteryplace.com/wp-content/uploads/2025/08/trick-or-treat-bugs-to-eat-book-2025.jpg
END:VEVENT
BEGIN:VEVENT
DTSTART;TZID=America/New_York:20251018T103000
DTEND;TZID=America/New_York:20251018T113000
DTSTAMP:20260425T204324
CREATED:20250813T192200Z
LAST-MODIFIED:20250816T161222Z
UID:10000431-1760783400-1760787000@thepotteryplace.com
SUMMARY:STORYTIME-TRICK OR TREAT\, BUGS TO EAT-AGES 2-6 SATURDAY
DESCRIPTION:STORYTIME AT THE POTTERY PLACE IS A SPECIAL STORY HOUR DESIGNED FOR 2-6 YEAR OLDS AND THEIR PARENTS. OUR STUDIO MANAGER AND ART INSTRUCTOR\, TAIRYN WILL READ THE CHILDREN A STORY AND THEN THEY WILL PAINT A PIECE THAT COORDINATES WITH THAT STORY.\n\nStorytime: Trick or Treat\, Bugs to Eat\nProject: Fangs the Bat\nWhen: Saturday\, October 18th – 10:30-11:30am\nCost: $24.00\nRegistration & Pre-payment Required\nWe are not able to hold class spaces without payment. If you cannot attend a program you have reserved\, please let us know as soon as possible. Though there will be no refunds for cancellations\, if we have a wait list or the class isn’t full we may be able to issue you a studio credit.
URL:https://thepotteryplace.com/event/storytime-trick-or-treat-bugs-to-eat-ages-2-6-saturday/
ATTACH;FMTTYPE=image/jpeg:https://thepotteryplace.com/wp-content/uploads/2025/08/trick-or-treat-bugs-to-eat-book-2025.jpg
END:VEVENT
END:VCALENDAR