BEGIN:VCALENDAR
VERSION:2.0
PRODID:-//The Pottery Place - ECPv6.2.9//NONSGML v1.0//EN
CALSCALE:GREGORIAN
METHOD:PUBLISH
X-WR-CALNAME:The Pottery Place
X-ORIGINAL-URL:https://thepotteryplace.com
X-WR-CALDESC:Events for The Pottery Place
REFRESH-INTERVAL;VALUE=DURATION:PT1H
X-Robots-Tag:noindex
X-PUBLISHED-TTL:PT1H
BEGIN:VTIMEZONE
TZID:America/New_York
BEGIN:DAYLIGHT
TZOFFSETFROM:-0500
TZOFFSETTO:-0400
TZNAME:EDT
DTSTART:20230312T070000
END:DAYLIGHT
BEGIN:STANDARD
TZOFFSETFROM:-0400
TZOFFSETTO:-0500
TZNAME:EST
DTSTART:20231105T060000
END:STANDARD
END:VTIMEZONE
BEGIN:VEVENT
DTSTART;TZID=America/New_York:20230310T180000
DTEND;TZID=America/New_York:20230310T193000
DTSTAMP:20260425T132012
CREATED:20230112T215022Z
LAST-MODIFIED:20230310T215820Z
UID:10000285-1678471200-1678476600@thepotteryplace.com
SUMMARY:CREATIVE KIDS AGES 6-12  BUBBLE BEE MUG
DESCRIPTION:Creative Kids is a multimedia arts and crafts class designed to encourage older kids creativity using a variety of mediums!\nSpace is very limited so call or sign up online today!\nProject: Bubble Bee Mug\nDate: Friday\, March 10th\nTime: 6-7:30pm\nCost: $30 per child per class\, all supplies included.\nThis is a drop off event. \nRegistration & Prepayment Required \nWe are not able to hold class spaces without payment. If you cannot attend a program you have reserved\, please let us know as soon as possible. Though there will be no refunds for cancellations\, if we have a wait list or the class isn’t full we may be able to issue you a studio credit.
URL:https://thepotteryplace.com/event/creative-kids-ages-6-12-bubble-bee-mug/
LOCATION:1475 Western Ave\, Albany\, NY\, 12203\, United States
ATTACH;FMTTYPE=image/jpeg:https://thepotteryplace.com/wp-content/uploads/2023/01/bumble-bee-mug.jpg
GEO:42.6840936;-73.839612
X-APPLE-STRUCTURED-LOCATION;VALUE=URI;X-ADDRESS=1475 Western Ave Albany NY 12203 United States;X-APPLE-RADIUS=500;X-TITLE=1475 Western Ave:geo:-73.839612,42.6840936
END:VEVENT
BEGIN:VEVENT
DTSTART;TZID=America/New_York:20230325T103000
DTEND;TZID=America/New_York:20230325T113000
DTSTAMP:20260425T132012
CREATED:20230112T205154Z
LAST-MODIFIED:20230112T212847Z
UID:10000280-1679740200-1679743800@thepotteryplace.com
SUMMARY:STORYTIME 2-6 YEAR OLDS - TOO MANY CARROTS-SATURDAY
DESCRIPTION:STORYTIME AT THE POTTERY PLACE IS A SPECIAL STORY HOUR DESIGNED FOR 2-6 YEAR OLDS AND THEIR PARENTS. OUR STUDIO MANAGER AND ART INSTRUCTOR\, TAIRYN WILL READ THE CHILDREN A STORY AND THEN THEY WILL PAINT A PIECE THAT COORDINATES WITH THAT STORY.\nStory: Too Many Carrots\nProject: Bunny With Carrot\nWhen: Saturday\, March 25th 10:30-11:30am\nCost: $22 per child\n*Registration and prepayment required
URL:https://thepotteryplace.com/event/storytime-2-6-year-olds-too-many-carrots-2/
LOCATION:1475 Western Ave\, Albany\, NY\, 12203\, United States
ATTACH;FMTTYPE=image/jpeg:https://thepotteryplace.com/wp-content/uploads/2023/01/too-many-carrots.jpg
GEO:42.6840936;-73.839612
X-APPLE-STRUCTURED-LOCATION;VALUE=URI;X-ADDRESS=1475 Western Ave Albany NY 12203 United States;X-APPLE-RADIUS=500;X-TITLE=1475 Western Ave:geo:-73.839612,42.6840936
END:VEVENT
BEGIN:VEVENT
DTSTART;TZID=America/New_York:20230331T180000
DTEND;TZID=America/New_York:20230331T193000
DTSTAMP:20260425T132012
CREATED:20230124T194104Z
LAST-MODIFIED:20230322T000717Z
UID:10000288-1680285600-1680291000@thepotteryplace.com
SUMMARY:EASTER PAINTING PARTY-FRIDAY
DESCRIPTION:Event: Easter Painting Party\nDate: Friday\, March 31st 6-7:30pm\nDetails: $40 +tax per child\n(2 Eggs\, 1 Little Nibbles Bunny Figurine)\nCome join us for this Egg-tastic painting event! \nEaster fun and Goodies included.\nThe Easter Bunny will make an appearance\, bring your phone/camera to capture photos!\nRegistration & Pre-Payment Required
URL:https://thepotteryplace.com/event/easter-painting-party-2/
LOCATION:1475 Western Ave\, Albany\, NY\, 12203\, United States
ATTACH;FMTTYPE=image/jpeg:https://thepotteryplace.com/wp-content/uploads/2023/01/EASTER-PAINTING-PARTY-PIECES.jpg
GEO:42.6840936;-73.839612
X-APPLE-STRUCTURED-LOCATION;VALUE=URI;X-ADDRESS=1475 Western Ave Albany NY 12203 United States;X-APPLE-RADIUS=500;X-TITLE=1475 Western Ave:geo:-73.839612,42.6840936
END:VEVENT
END:VCALENDAR