BEGIN:VCALENDAR
VERSION:2.0
PRODID:-//The Pottery Place - ECPv6.2.9//NONSGML v1.0//EN
CALSCALE:GREGORIAN
METHOD:PUBLISH
X-WR-CALNAME:The Pottery Place
X-ORIGINAL-URL:https://thepotteryplace.com
X-WR-CALDESC:Events for The Pottery Place
REFRESH-INTERVAL;VALUE=DURATION:PT1H
X-Robots-Tag:noindex
X-PUBLISHED-TTL:PT1H
BEGIN:VTIMEZONE
TZID:America/New_York
BEGIN:DAYLIGHT
TZOFFSETFROM:-0500
TZOFFSETTO:-0400
TZNAME:EDT
DTSTART:20230312T070000
END:DAYLIGHT
BEGIN:STANDARD
TZOFFSETFROM:-0400
TZOFFSETTO:-0500
TZNAME:EST
DTSTART:20231105T060000
END:STANDARD
END:VTIMEZONE
BEGIN:VEVENT
DTSTART;TZID=America/New_York:20230113T180000
DTEND;TZID=America/New_York:20230113T193000
DTSTAMP:20260424T185525
CREATED:20220727T212955Z
LAST-MODIFIED:20220909T160935Z
UID:10000260-1673632800-1673638200@thepotteryplace.com
SUMMARY:CREATIVE KIDS-SNOWMAN PLATE 6-12 YEAR OLDS
DESCRIPTION:Creative Kids is a multimedia arts and crafts class designed to encourage older kids creativity using a variety of mediums!\nSpace is very limited so call or sign up online today!\nProject: Snowman Plate\nDate: Friday\, January 13th\nTime: 6-7:30pm\nAges:6-12\nCost: $30 per child per class\, all supplies included.\nThis is a drop off event.\nRegistration & Prepayment Required \nWe are not able to hold class spaces without payment. If you cannot attend a program you have reserved\, please let us know as soon as possible. Though there will be no refunds for cancellations\, if we have a wait list or the class isn’t full we may be able to issue you a studio credit.
URL:https://thepotteryplace.com/event/creative-kids-snowman-plate-6-12-year-olds/
LOCATION:1475 Western Ave\, Albany\, NY\, 12203\, United States
ATTACH;FMTTYPE=image/jpeg:https://thepotteryplace.com/wp-content/uploads/2022/07/snowmanplateresize.jpg
GEO:42.6840936;-73.839612
X-APPLE-STRUCTURED-LOCATION;VALUE=URI;X-ADDRESS=1475 Western Ave Albany NY 12203 United States;X-APPLE-RADIUS=500;X-TITLE=1475 Western Ave:geo:-73.839612,42.6840936
END:VEVENT
BEGIN:VEVENT
DTSTART;TZID=America/New_York:20230120T183000
DTEND;TZID=America/New_York:20230120T193000
DTSTAMP:20260424T185525
CREATED:20220807T162056Z
LAST-MODIFIED:20220825T005614Z
UID:10000266-1674239400-1674243000@thepotteryplace.com
SUMMARY:STORYTIME-LITTLE RED FOX HAS FEELINGS-2-6 YEAR OLDS
DESCRIPTION:STORYTIME AT THE POTTERY PLACE IS A SPECIAL STORY HOUR DESIGNED FOR 2-6 YEAR OLDS AND THEIR PARENTS. OUR STUDIO MANAGER AND ART INSTRUCTOR\, TAIRYN WILL READ THE CHILDREN A STORY AND THEN THEY WILL PAINT A PIECE THAT COORDINATES WITH THAT STORY.\nSTORY: LITTLE RED FOX HAS FEELINGS\nPROJECT: FOX FIGURINE\nDATE: FRIDAY\, JANUARY 20TH\nTIME: 6:30-7:30\nCOST: $22 PER PAINTER\nREGISTRATION AND PRE-PAYMANT ARE REQUIRED \nWe are not able to hold class spaces without payment. If you cannot attend a program you have reserved\, please let us know as soon as possible. Though there will be no refunds for cancellations\, if we have a wait list or the class isn’t full we may be able to issue you a studio credit.
URL:https://thepotteryplace.com/event/storytime-little-red-fox-has-feelings-2-6-year-olds/
LOCATION:1475 Western Ave\, Albany\, NY\, 12203\, United States
ATTACH;FMTTYPE=image/jpeg:https://thepotteryplace.com/wp-content/uploads/2022/08/little-red-fox-has-feelings.jpg
GEO:42.6840936;-73.839612
X-APPLE-STRUCTURED-LOCATION;VALUE=URI;X-ADDRESS=1475 Western Ave Albany NY 12203 United States;X-APPLE-RADIUS=500;X-TITLE=1475 Western Ave:geo:-73.839612,42.6840936
END:VEVENT
BEGIN:VEVENT
DTSTART;TZID=America/New_York:20230121T103000
DTEND;TZID=America/New_York:20230121T113000
DTSTAMP:20260424T185525
CREATED:20220807T162908Z
LAST-MODIFIED:20230118T153226Z
UID:10000267-1674297000-1674300600@thepotteryplace.com
SUMMARY:STORYTIME- LITTLE RED FOX HAS FEELINGS  2-6 YEAR OLDS
DESCRIPTION:STORYTIME AT THE POTTERY PLACE IS A SPECIAL STORY HOUR DESIGNED FOR 2-6 YEAR OLDS AND THEIR PARENTS. OUR STUDIO MANAGER AND ART INSTRUCTOR\, TAIRYN WILL READ THE CHILDREN A STORY AND THEN THEY WILL PAINT A PIECE THAT COORDINATES WITH THAT STORY.\nSTORY: LITTLE RED FOX HAS FEELINGS\nPROJECT: FOX FIGURINE\nDATE: SATURDAY\, JANUARY 21ST\nTIME: 10:30-11:30\nCOST: $22 PER PAINTER\nREGISTRATION AND PRE-PAYMANT ARE REQUIRED \nWe are not able to hold class spaces without payment. If you cannot attend a program you have reserved\, please let us know as soon as possible. Though there will be no refunds for cancellations\, if we have a wait list or the class isn’t full we may be able to issue you a studio credit.
URL:https://thepotteryplace.com/event/storytime-little-red-fox-has-feelings-2-6-year-olds-2/
LOCATION:1475 Western Ave\, Albany\, NY\, 12203\, United States
ATTACH;FMTTYPE=image/jpeg:https://thepotteryplace.com/wp-content/uploads/2022/08/little-red-fox-has-feelings.jpg
GEO:42.6840936;-73.839612
X-APPLE-STRUCTURED-LOCATION;VALUE=URI;X-ADDRESS=1475 Western Ave Albany NY 12203 United States;X-APPLE-RADIUS=500;X-TITLE=1475 Western Ave:geo:-73.839612,42.6840936
END:VEVENT
BEGIN:VEVENT
DTSTART;TZID=America/New_York:20230126T180000
DTEND;TZID=America/New_York:20230126T200000
DTSTAMP:20260424T185525
CREATED:20220823T004214Z
LAST-MODIFIED:20221120T040139Z
UID:10000270-1674756000-1674763200@thepotteryplace.com
SUMMARY:PAINT A BONG 21+
DESCRIPTION:Paint A Bong Event 21+\nWhen: Thursday\, January 26th  6-8pm\nCost: $65 +tax per painter\nMUST BE 21+ ID REQUIRED AT EVENT.\nIncludes a Classic Beaker Bong to paint\, all paints\, supplies\, glazing & firing. Piece will be fully functional after firing and will include a glass bowl & silicone downstem at pick up.\nNO CONSUMPTION ALLOWED IN STUDIO\nRegistration & pre-payment required \nWe are not able to hold class spaces without payment. If you cannot attend a program you have reserved\, please let us know as soon as possible. Though there will be no refunds for cancellations\, if we have a wait list or the class isn’t full we may be able to issue you a studio credit.
URL:https://thepotteryplace.com/event/paint-a-bong-21/
LOCATION:1475 Western Ave\, Albany\, NY\, 12203\, United States
ATTACH;FMTTYPE=image/jpeg:https://thepotteryplace.com/wp-content/uploads/2022/08/bong.jpg
GEO:42.6840936;-73.839612
X-APPLE-STRUCTURED-LOCATION;VALUE=URI;X-ADDRESS=1475 Western Ave Albany NY 12203 United States;X-APPLE-RADIUS=500;X-TITLE=1475 Western Ave:geo:-73.839612,42.6840936
END:VEVENT
END:VCALENDAR