BEGIN:VCALENDAR
VERSION:2.0
PRODID:-//The Pottery Place - ECPv6.2.9//NONSGML v1.0//EN
CALSCALE:GREGORIAN
METHOD:PUBLISH
X-ORIGINAL-URL:https://thepotteryplace.com
X-WR-CALDESC:Events for The Pottery Place
REFRESH-INTERVAL;VALUE=DURATION:PT1H
X-Robots-Tag:noindex
X-PUBLISHED-TTL:PT1H
BEGIN:VTIMEZONE
TZID:America/New_York
BEGIN:DAYLIGHT
TZOFFSETFROM:-0500
TZOFFSETTO:-0400
TZNAME:EDT
DTSTART:20190310T070000
END:DAYLIGHT
BEGIN:STANDARD
TZOFFSETFROM:-0400
TZOFFSETTO:-0500
TZNAME:EST
DTSTART:20191103T060000
END:STANDARD
END:VTIMEZONE
BEGIN:VEVENT
DTSTART;TZID=America/New_York:20191207T160000
DTEND;TZID=America/New_York:20191207T180000
DTSTAMP:20260420T024517
CREATED:20180908T195413Z
LAST-MODIFIED:20191027T210924Z
UID:10000196-1575734400-1575741600@thepotteryplace.com
SUMMARY:Paint With Santa
DESCRIPTION:ALL SESSIONS ARE SOLD OUT! \n  \nChildren of all ages are invited to come and paint with Santa. Santa will read the children a story and visit each child individually. The children will paint 3 Christmas ornaments\, have their picture taken with Santa and decorate Christmas cookies! \nPaint with Santa sells out every year. Call today to reserve a spot for your child. \n  \nDate: Saturday Dec 7th 4-6PM \nCost: $40+tax per child. \n\nReservations and prepayment are Required
URL:https://thepotteryplace.com/event/paint-with-santa-2/
LOCATION:1475 Western Ave\, Albany\, NY\, 12203\, United States
ATTACH;FMTTYPE=image/jpeg:https://thepotteryplace.com/wp-content/uploads/2018/09/santa-and-levi.jpg
END:VEVENT
BEGIN:VEVENT
DTSTART;TZID=America/New_York:20191213T183000
DTEND;TZID=America/New_York:20191213T203000
DTSTAMP:20260420T024517
CREATED:20180908T200408Z
LAST-MODIFIED:20191213T194705Z
UID:10000197-1576261800-1576269000@thepotteryplace.com
SUMMARY:Paint A Present 6+
DESCRIPTION:  \n  \nChildren love to surprise their loved ones with gifts they’ve made themselves and especially love these gifts to be a SECRET! Our Paint A Present Workshop is for children 6 years old and up. This is a drop-off event. We’re also including a special holiday activity. Be surprised this year with a special gift from your child. \nAges: 6 and up\nDate: Friday\, Dec 13\nTime: 6:30-8:30pm\nCost: $5  plus the cost of the pottery. \nReservations  and pre-payment are necessary required
URL:https://thepotteryplace.com/event/paint-a-present/
LOCATION:1475 Western Ave\, Albany\, NY\, 12203\, United States
ATTACH;FMTTYPE=image/jpeg:https://thepotteryplace.com/wp-content/uploads/2018/09/paint-a-present.jpg
GEO:42.6837509;-73.8396313
X-APPLE-STRUCTURED-LOCATION;VALUE=URI;X-ADDRESS=1475 Western Ave Albany NY 12203 United States;X-APPLE-RADIUS=500;X-TITLE=1475 Western Ave:geo:-73.8396313,42.6837509
END:VEVENT
END:VCALENDAR