BEGIN:VCALENDAR
VERSION:2.0
PRODID:-//The Pottery Place - ECPv6.2.9//NONSGML v1.0//EN
CALSCALE:GREGORIAN
METHOD:PUBLISH
X-ORIGINAL-URL:https://thepotteryplace.com
X-WR-CALDESC:Events for The Pottery Place
REFRESH-INTERVAL;VALUE=DURATION:PT1H
X-Robots-Tag:noindex
X-PUBLISHED-TTL:PT1H
BEGIN:VTIMEZONE
TZID:America/New_York
BEGIN:DAYLIGHT
TZOFFSETFROM:-0500
TZOFFSETTO:-0400
TZNAME:EDT
DTSTART:20190310T070000
END:DAYLIGHT
BEGIN:STANDARD
TZOFFSETFROM:-0400
TZOFFSETTO:-0500
TZNAME:EST
DTSTART:20191103T060000
END:STANDARD
TZID:America/New_York
BEGIN:DAYLIGHT
TZOFFSETFROM:-0500
TZOFFSETTO:-0400
TZNAME:EDT
DTSTART:20190310T070000
END:DAYLIGHT
BEGIN:STANDARD
TZOFFSETFROM:-0400
TZOFFSETTO:-0500
TZNAME:EST
DTSTART:20191103T060000
END:STANDARD
END:VTIMEZONE
BEGIN:VEVENT
DTSTART;TZID=America/New_York:20191003T180000
DTEND;TZID=America/New_York:20191003T200000
DTSTAMP:20260422T190354
CREATED:20190817T181223Z
LAST-MODIFIED:20190822T143833Z
UID:10000216-1570125600-1570132800@thepotteryplace.com
SUMMARY:Halloween Tree Class 18+
DESCRIPTION:Do you love Halloween? Well here’s your chance to paint a super spooky tree with major discounts on the tree! We will be ordering stickers and ideas for your tree and base. \n\n\n \n\n\nWhen: Thursday\, October 3rd \n\n\nTime: 6-8pm (may go a little longer)\n\n\nCost: $70+tax includes EVERYTHING! (Ceramic tree & base\, paints\, glazing\, firing and all the lights for your tree (orange and purple lights to be exact)\n\n\nAges: 18 and up!\n\n\nWhen you call to sign up (518-446-0870) you can either pay the full amount or a 50% deposit of $35! (to hold your spot)\n\n\n \n\n\nIf you were to paint this tree in our studio the tree alone would cost $90. This is a KILLER deal! Don’t miss out we only have a handful of spots available.\n\n\n \n\n\nJust a friendly reminder it will take us 1 week to glaze and fire your trees!\n\n\n \n\n\nReservations ARE required. Payment is nonrefundable if you have to cancel or don’t show up.\n\n 
URL:https://thepotteryplace.com/event/halloween-tree-class-18/
LOCATION:1475 Western Ave\, Albany\, NY\, 12203\, United States
ATTACH;FMTTYPE=image/jpeg:https://thepotteryplace.com/wp-content/uploads/2019/08/halloween-tree.jpg
END:VEVENT
BEGIN:VEVENT
DTSTART;TZID=America/New_York:20191011T183000
DTEND;TZID=America/New_York:20191011T193000
DTSTAMP:20260422T190354
CREATED:20190912T180058Z
LAST-MODIFIED:20191011T195029Z
UID:10000217-1570818600-1570822200@thepotteryplace.com
SUMMARY:STORYTIME SPOOKY NIGHT 2-6 YEAR OLDS
DESCRIPTION:Storytime at The Pottery Place is a special story hour designed for 2 to 6 year olds and their parents. Each Storytime session is 1 hour long.\nStory: Spooky Night\nPiece: Midnight The Cat Figurine\nDate: Friday\, Oct 11th\nTime: 6:30-7:30 PM\nAge: 2-6\nPrice: $18 plus tax \nReservations ARE required. Payment is nonrefundable if you have to cancel or don’t show up.
URL:https://thepotteryplace.com/event/storytime-spooky-night-2-6-year-olds/
LOCATION:1475 Western Ave\, Albany\, NY\, 12203\, United States
ATTACH;FMTTYPE=image/jpeg:https://thepotteryplace.com/wp-content/uploads/2018/02/spookynightbook.jpg
END:VEVENT
BEGIN:VEVENT
DTSTART;TZID=America/New_York:20191012T103000
DTEND;TZID=America/New_York:20191012T113000
DTSTAMP:20260422T190354
CREATED:20190912T181045Z
LAST-MODIFIED:20191011T194755Z
UID:10000218-1570876200-1570879800@thepotteryplace.com
SUMMARY:STORYTIME SPOOKY NIGHT 2-6 YEAR OLDS
DESCRIPTION:  \nStorytime at The Pottery Place is a special story hour designed for 2 to 6 year olds and their parents. Each Storytime session is 1 hour long.\nStory: Spooky Night\nPiece: Midnight The Cat Figurine\nDate: Saturday\, Oct 12th\nTime: 10:30-11:30 AM\nAge: 2-6\nPrice: $18 plus tax \nReservations ARE required. Payment is nonrefundable if you have to cancel or don’t show up.
URL:https://thepotteryplace.com/event/storytime-spooky-night/
LOCATION:1475 Western Ave\, Albany\, NY\, 12203\, United States
ATTACH;FMTTYPE=image/jpeg:https://thepotteryplace.com/wp-content/uploads/2018/02/spookynightbook.jpg
END:VEVENT
BEGIN:VEVENT
DTSTART;TZID=America/New_York:20191018T180000
DTEND;TZID=America/New_York:20191018T193000
DTSTAMP:20260422T190354
CREATED:20190912T191047Z
LAST-MODIFIED:20191010T182152Z
UID:10000221-1571421600-1571427000@thepotteryplace.com
SUMMARY:CREATIVE KIDS BOO PLATTER 6-12 YEAR OLDS
DESCRIPTION:Creative Kids is a multimedia arts and crafts class designed to encourage older kids creativity using a variety of mediums!\nSpace is very limited so call to sign up today! \nProject: Boo Platter\nDate: Friday\, Oct 18th\nTime: 6-7:30pm\nAges:6-12\nCost: $25 per child per class\, all supplies included.\nThis is a drop off event. \nAS ALWAYS RESERVATIONS ARE REQUIRED AND NONREFUNDABLE IF YOU CANCEL OR DON’T SHOW UP.
URL:https://thepotteryplace.com/event/creative-kids-boo-platter-6-12-year-olds/
LOCATION:1475 Western Ave\, Albany\, NY\, 12203\, United States
ATTACH;FMTTYPE=image/png:https://thepotteryplace.com/wp-content/uploads/2019/09/booplate.png
END:VEVENT
BEGIN:VEVENT
DTSTART;TZID=America/New_York:20191027T120000
DTEND;TZID=America/New_York:20191027T180000
DTSTAMP:20260422T190354
CREATED:20180908T201007Z
LAST-MODIFIED:20190912T214948Z
UID:10000199-1572177600-1572199200@thepotteryplace.com
SUMMARY:Spooky Halloween Special
DESCRIPTION:  \n20% off for all kids (18 under) dressed in a costume! Halloween Candy and goodies included! Walk in event. \n  \nDate: Sunday\, Oct 27 Noon-6 pm
URL:https://thepotteryplace.com/event/spooky-halloween-special/
LOCATION:1475 Western Ave\, Albany\, NY\, 12203\, United States
ATTACH;FMTTYPE=image/jpeg:https://thepotteryplace.com/wp-content/uploads/2018/09/halloween-special.jpg
END:VEVENT
END:VCALENDAR