BEGIN:VCALENDAR
VERSION:2.0
PRODID:-//The Pottery Place - ECPv6.2.9//NONSGML v1.0//EN
CALSCALE:GREGORIAN
METHOD:PUBLISH
X-WR-CALNAME:The Pottery Place
X-ORIGINAL-URL:https://thepotteryplace.com
X-WR-CALDESC:Events for The Pottery Place
REFRESH-INTERVAL;VALUE=DURATION:PT1H
X-Robots-Tag:noindex
X-PUBLISHED-TTL:PT1H
BEGIN:VTIMEZONE
TZID:America/New_York
BEGIN:DAYLIGHT
TZOFFSETFROM:-0500
TZOFFSETTO:-0400
TZNAME:EDT
DTSTART:20190310T070000
END:DAYLIGHT
BEGIN:STANDARD
TZOFFSETFROM:-0400
TZOFFSETTO:-0500
TZNAME:EST
DTSTART:20191103T060000
END:STANDARD
END:VTIMEZONE
BEGIN:VEVENT
DTSTART;TZID=America/New_York:20190920T183000
DTEND;TZID=America/New_York:20190920T193000
DTSTAMP:20260422T224456
CREATED:20180227T020300Z
LAST-MODIFIED:20190730T184716Z
UID:10000154-1569004200-1569007800@thepotteryplace.com
SUMMARY:Storytime: "Wow!" Said The Owl 2-6 year olds
DESCRIPTION:Storytime at The Pottery Place is a special story hour designed for 2 to 6 year olds and their parents. Each Storytime session is 1 hour long.\nStory: “Wow”! Said The Owl\nPiece: Owl Ani-Mug\nDate: Friday\, Sept. 20th\nTime: 6:30-7:30pm\nAge: 2-6\nPrice: $18 plus tax \nReservations ARE required. Payment is nonrefundable if you have to cancel or don’t show up.
URL:https://thepotteryplace.com/event/storytime-wow-said-the-owl-2-6/
LOCATION:1475 Western Ave\, Albany\, NY\, 12203\, United States
ATTACH;FMTTYPE=image/jpeg:https://thepotteryplace.com/wp-content/uploads/2019/05/wow-said-the-owl.jpg
END:VEVENT
BEGIN:VEVENT
DTSTART;TZID=America/New_York:20190921T103000
DTEND;TZID=America/New_York:20190921T113000
DTSTAMP:20260422T224456
CREATED:20180515T002959Z
LAST-MODIFIED:20190730T184012Z
UID:10000176-1569061800-1569065400@thepotteryplace.com
SUMMARY:Storytime: "Wow!" Said The Owl 2-6 year olds
DESCRIPTION:Storytime at The Pottery Place is a special story hour designed for 2 to 6 year olds and their parents. Each Storytime session is 1 hour long.\nStory: “Wow!” Said The Owl\nPiece: Owl Ani-Mug\nDate: Saturday\, Sept 21st\nTime: 10:30-11:30 AM\nAge: 2-6\nPrice: $18 plus tax \nReservations ARE required. Payment is nonrefundable if you have to cancel or don’t show up.
URL:https://thepotteryplace.com/event/storytime-wow-said-the-owl-2-6-year-olds/
LOCATION:1475 Western Ave\, Albany\, NY\, 12203\, United States
ATTACH;FMTTYPE=image/jpeg:https://thepotteryplace.com/wp-content/uploads/2019/05/wow-said-the-owl.jpg
END:VEVENT
BEGIN:VEVENT
DTSTART;TZID=America/New_York:20190927T180000
DTEND;TZID=America/New_York:20190927T200000
DTSTAMP:20260422T224456
CREATED:20180309T154055Z
LAST-MODIFIED:20190730T183800Z
UID:10000169-1569607200-1569614400@thepotteryplace.com
SUMMARY:Adult Disney Class: 16+
DESCRIPTION:Paint something Disney to add to your collection!\nDate: Friday\, Sept. 27th\nTime: 6-8pm \nCost: $5 plus the cost of the piece you choose to paint \nAge: 16+. \nPottery choice will be purchased the  night of the event.  \n  \nReservations and Prepayment Required
URL:https://thepotteryplace.com/event/adult-disney-class-16/
LOCATION:1475 Western Ave\, Albany\, NY\, 12203\, United States
ATTACH;FMTTYPE=image/png:https://thepotteryplace.com/wp-content/uploads/2019/05/adult-disney-class.png
END:VEVENT
BEGIN:VEVENT
DTSTART;TZID=America/New_York:20190928T100000
DTEND;TZID=America/New_York:20190928T120000
DTSTAMP:20260422T224456
CREATED:20180515T175825Z
LAST-MODIFIED:20190610T001150Z
UID:10000184-1569664800-1569672000@thepotteryplace.com
SUMMARY:Kids Disney Class: Age 6-15
DESCRIPTION:  \nEvent: Kids Disney Class\nPiece: We will be painting a large “Disney Fund” piggy bank\nDate: Saturday\, Sept 28th 10-12PM\nAge: 6-15\nCost: $48+tax per painter\n  \nReservations and pre-payment required. Non-refundable if you have to cancel
URL:https://thepotteryplace.com/event/kids-disney-class/
LOCATION:1475 Western Ave\, Albany\, NY\, 12203\, United States
ATTACH;FMTTYPE=image/png:https://thepotteryplace.com/wp-content/uploads/2019/05/kids-disney-class.png
END:VEVENT
END:VCALENDAR