BEGIN:VCALENDAR
VERSION:2.0
PRODID:-//The Pottery Place - ECPv6.2.9//NONSGML v1.0//EN
CALSCALE:GREGORIAN
METHOD:PUBLISH
X-ORIGINAL-URL:https://thepotteryplace.com
X-WR-CALDESC:Events for The Pottery Place
REFRESH-INTERVAL;VALUE=DURATION:PT1H
X-Robots-Tag:noindex
X-PUBLISHED-TTL:PT1H
BEGIN:VTIMEZONE
TZID:America/New_York
BEGIN:DAYLIGHT
TZOFFSETFROM:-0500
TZOFFSETTO:-0400
TZNAME:EDT
DTSTART:20190310T070000
END:DAYLIGHT
BEGIN:STANDARD
TZOFFSETFROM:-0400
TZOFFSETTO:-0500
TZNAME:EST
DTSTART:20191103T060000
END:STANDARD
TZID:America/New_York
BEGIN:DAYLIGHT
TZOFFSETFROM:-0500
TZOFFSETTO:-0400
TZNAME:EDT
DTSTART:20190310T070000
END:DAYLIGHT
BEGIN:STANDARD
TZOFFSETFROM:-0400
TZOFFSETTO:-0500
TZNAME:EST
DTSTART:20191103T060000
END:STANDARD
END:VTIMEZONE
BEGIN:VEVENT
DTSTART;TZID=America/New_York:20190803T103000
DTEND;TZID=America/New_York:20190803T120000
DTSTAMP:20260422T205455
CREATED:20180911T192206Z
LAST-MODIFIED:20190803T132920Z
UID:10000201-1564828200-1564833600@thepotteryplace.com
SUMMARY:Make With Me Dino Class
DESCRIPTION:Projects:  Dino hand print Salad Plate for you\, t-rex figurine for your child. We will help with prints\, you and your child decorate the rest!\nDate: Saturday\, Aug 3rd  10:30-12PM\nCost: $35 for 1 child and 1 adult. $30 for add’l child w/ same adult.\nReservation and Prepayment required.\n\n*Payment is non-refundable if you should cancel or not show up.
URL:https://thepotteryplace.com/event/make-with-me-dino-class/
LOCATION:1475 Western Ave\, Albany\, NY\, 12203\, United States
ATTACH;FMTTYPE=image/png:https://thepotteryplace.com/wp-content/uploads/2019/05/make-with-me-dino-plate.png
END:VEVENT
BEGIN:VEVENT
DTSTART;TZID=America/New_York:20190809T180000
DTEND;TZID=America/New_York:20190809T190000
DTSTAMP:20260422T205455
CREATED:20180227T030141Z
LAST-MODIFIED:20190730T185316Z
UID:10000160-1565373600-1565377200@thepotteryplace.com
SUMMARY:Adaptive Art Hour: Monogram Canvas 6-18 year olds
DESCRIPTION:This unique class is geared towards artists with adaptive abilities or special needs. Lots of different tools will be available (sponges felt dabbers\, brushes\, or you can even use your fingers!) so painters can feel free to use whatever they are comfortable with. Class size will be kept small & extra staff will be on hand. Parents/ aides are encouraged to stay. Projects are ready to go home that day.\nDate: Friday\, Aug 9th\n Time: 6-7pm\n Age: 6-18 (flexible)\n Project: Monogram Canvas\n Cost: $25 per painter\nAs always pre payment is required to sign up and is non refundable if cancelled or you don’t show up.
URL:https://thepotteryplace.com/event/adaptive-art-hour-6-18-year-olds/
LOCATION:1475 Western Ave\, Albany\, NY\, 12203\, United States
ATTACH;FMTTYPE=image/png:https://thepotteryplace.com/wp-content/uploads/2019/05/adaptive-arts2019.png
END:VEVENT
BEGIN:VEVENT
DTSTART;TZID=America/New_York:20190813T103000
DTEND;TZID=America/New_York:20190813T120000
DTSTAMP:20260422T205455
CREATED:20190713T213905Z
LAST-MODIFIED:20190713T213906Z
UID:10000213-1565692200-1565697600@thepotteryplace.com
SUMMARY:Harry Potter Always Plate  6-12 year olds
DESCRIPTION: Project: Harry Potter Always Plate \nDate: Tuesday\,  August 13th \nTime: 10:30 am-12 pm \nCost: $25 plus tax \n*Payment is required to sign up and is nonrefundable if you have to cancel or do not show up.\n 
URL:https://thepotteryplace.com/event/harry-potter-always-plate-6-12-year-olds/
LOCATION:1475 Western Ave\, Albany\, NY\, 12203\, United States
ATTACH;FMTTYPE=image/jpeg:https://thepotteryplace.com/wp-content/uploads/2019/07/hp.jpg
END:VEVENT
BEGIN:VEVENT
DTSTART;TZID=America/New_York:20190813T130000
DTEND;TZID=America/New_York:20190815T160000
DTSTAMP:20260422T205455
CREATED:20180319T191437Z
LAST-MODIFIED:20190730T185052Z
UID:10000172-1565701200-1565884800@thepotteryplace.com
SUMMARY:3 Day Camp Monogram   Ages 6-12
DESCRIPTION:The Pottery Place has had quality art camps for over 10 years. All camps are taught by an experienced art instructor. Boys and girls alike are welcome to join us! All camps are small in size so we can give each child personalized attention. We always encourage campers to explore and express their own artistic style. Year after year we have gotten rave reviews from kids and adults! \nMonogram Camp \nWhen: Monday\, August 13th-15th\nTime: 1-4 pm \nAge: 6-14\nCost: $125 + tax \n-Dinner Plate \n-Cereal Bowl \n-Coffee Mug \n-Set Of 4 Coasters \nAll projects with have a monogram design with the child’s initial & fun painting techniques. \n-Daily Snack Provided \n** RESERVATIONS AND PREPAYMENT REQUIRED **
URL:https://thepotteryplace.com/event/3-day-camp-monogram-ages-6-12/
LOCATION:1475 Western Ave\, Albany\, NY\, 12203\, United States
ATTACH;FMTTYPE=image/jpeg:https://thepotteryplace.com/wp-content/uploads/2018/05/monogram-camp-3.jpg
END:VEVENT
BEGIN:VEVENT
DTSTART;TZID=America/New_York:20190815T103000
DTEND;TZID=America/New_York:20190815T120000
DTSTAMP:20260422T205455
CREATED:20190713T214534Z
LAST-MODIFIED:20190730T184944Z
UID:10000215-1565865000-1565870400@thepotteryplace.com
SUMMARY:Unicorn Glitter Letter  6-12 year olds
DESCRIPTION:Project: Unicorn Glitter Letter \nDate: Thursday\, August 15th \nTime: 10:30 am-12 pm \nCost: $25+tax \n  \n*Payment is required to sign up and is nonrefundable if you have to cancel or do not show up.
URL:https://thepotteryplace.com/event/unicorn-glitter-letter-6-12-year-olds/
LOCATION:1475 Western Ave\, Albany\, NY\, 12203\, United States
ATTACH;FMTTYPE=image/jpeg:https://thepotteryplace.com/wp-content/uploads/2019/07/unicorn.jpg
END:VEVENT
BEGIN:VEVENT
DTSTART;TZID=America/New_York:20190816T183000
DTEND;TZID=America/New_York:20190816T193000
DTSTAMP:20260422T205455
CREATED:20180515T002658Z
LAST-MODIFIED:20190816T161838Z
UID:10000175-1565980200-1565983800@thepotteryplace.com
SUMMARY:Storytime: Dragons Love Tacos 2-6 year olds
DESCRIPTION:Storytime at The Pottery Place is a special story hour designed for 2 to 6 year olds and their parents. Each Storytime session is 1 hour long.\nStory: Dragons Love Tacos\nPiece: Dragon Bank\nDate: Friday\, August 16th\nTime: 6:30-7:30pm\nAge: 2-6\nPrice: $18 plus tax \nReservations ARE required. Payment is nonrefundable if you have to cancel or don’t show up.
URL:https://thepotteryplace.com/event/storytime-dragons-love-tacos-2-6-year-olds-2/
LOCATION:1475 Western Ave\, Albany\, NY\, 12203\, United States
ATTACH;FMTTYPE=image/jpeg:https://thepotteryplace.com/wp-content/uploads/2019/05/dragons-love-tacos.jpg
END:VEVENT
BEGIN:VEVENT
DTSTART;TZID=America/New_York:20190817T103000
DTEND;TZID=America/New_York:20190817T113000
DTSTAMP:20260422T205455
CREATED:20180515T004358Z
LAST-MODIFIED:20190730T184628Z
UID:10000179-1566037800-1566041400@thepotteryplace.com
SUMMARY:Storytime: Dragons Love Tacos 2-6 year olds
DESCRIPTION:Storytime at The Pottery Place is a special story hour designed for 2 to 6 year olds and their parents. Each Storytime session is 1 hour long.\nStory: Dragons Love Tacos\nPiece: Dragon Bank\nDate: Saturday\, August 17th\nTime: 10:30-11:30 AM\nAge: 2-6\nPrice: $18 plus tax \nReservations ARE required. Payment is nonrefundable if you have to cancel or don’t show up.
URL:https://thepotteryplace.com/event/storytime-dragons-love-tacos-2-6-year-olds/
LOCATION:1475 Western Ave\, Albany\, NY\, 12203\, United States
ATTACH;FMTTYPE=image/jpeg:https://thepotteryplace.com/wp-content/uploads/2019/05/dragons-love-tacos.jpg
END:VEVENT
BEGIN:VEVENT
DTSTART;TZID=America/New_York:20190819T140000
DTEND;TZID=America/New_York:20190823T160000
DTSTAMP:20260422T205455
CREATED:20180520T202855Z
LAST-MODIFIED:20190618T160024Z
UID:10000187-1566223200-1566576000@thepotteryplace.com
SUMMARY:Teen Camp: Talavera Floral Pattern Dinner Set Ages 12-18
DESCRIPTION:The Pottery Place has had quality art camps for over 10 years. All camps are taught by an experienced art instructor. Boys and girls alike are welcome to join us! All camps are small in size so we can give each child personalized attention. We always encourage campers to explore and express their own artistic style. Year after year we have gotten rave reviews from kids and adults!\nThis years Teen Camp:\nTalavera Floral Dinner Set \nWhen: Monday\, August 19th- Friday\, August 23rd\nTime: 2-4pm daily\nAge: 12-18\nCost: $125 everything is included in this price. (all pieces\, tiles\, glazing and firing.) \n-Daily Snack Provided \n** RESERVATIONS AND PRE-PAYMENT REQUIRED **
URL:https://thepotteryplace.com/event/teen-camp-talavera-floral-dinner-set/
LOCATION:1475 Western Ave\, Albany\, NY\, 12203\, United States
ATTACH;FMTTYPE=image/jpeg:https://thepotteryplace.com/wp-content/uploads/2018/05/teen-camp-1.jpg
END:VEVENT
BEGIN:VEVENT
DTSTART;TZID=America/New_York:20190824T100000
DTEND;TZID=America/New_York:20190824T120000
DTSTAMP:20260422T205455
CREATED:20190703T011354Z
LAST-MODIFIED:20190730T184158Z
UID:10000211-1566640800-1566648000@thepotteryplace.com
SUMMARY:Lighted Christmas Cactus Class
DESCRIPTION:  \nLooking for a unique Christmas decoration? Look no further than this Lighted Cactus! This class will help you design your own one of a kind cactus at a rock bottom price! \nWhen: Saturday\, August 24th\nTime: 10-noon\nCost: $55 plus tax (a $20 discount from the studio price)\nThe $55 includes the cactus\, all the lights\, paints\, glazing and firing. \nRemember\, your cactus will be ready the following Saturday. It does take us 1 week to glaze and fire your piece. \nAs always reservations are required and are non refundable if you have to cancel or do not show up.
URL:https://thepotteryplace.com/event/lighted-christmas-cactus-class/
LOCATION:1475 Western Ave\, Albany\, NY\, 12203\, United States
ATTACH;FMTTYPE=image/jpeg:https://thepotteryplace.com/wp-content/uploads/2019/07/cactus-1.jpg
END:VEVENT
END:VCALENDAR