BEGIN:VCALENDAR
VERSION:2.0
PRODID:-//The Pottery Place - ECPv6.2.9//NONSGML v1.0//EN
CALSCALE:GREGORIAN
METHOD:PUBLISH
X-WR-CALNAME:The Pottery Place
X-ORIGINAL-URL:https://thepotteryplace.com
X-WR-CALDESC:Events for The Pottery Place
REFRESH-INTERVAL;VALUE=DURATION:PT1H
X-Robots-Tag:noindex
X-PUBLISHED-TTL:PT1H
BEGIN:VTIMEZONE
TZID:America/New_York
BEGIN:DAYLIGHT
TZOFFSETFROM:-0500
TZOFFSETTO:-0400
TZNAME:EDT
DTSTART:20260308T070000
END:DAYLIGHT
BEGIN:STANDARD
TZOFFSETFROM:-0400
TZOFFSETTO:-0500
TZNAME:EST
DTSTART:20261101T060000
END:STANDARD
END:VTIMEZONE
BEGIN:VEVENT
DTSTART;TZID=America/New_York:20260515T180000
DTEND;TZID=America/New_York:20260515T193000
DTSTAMP:20260419T210800
CREATED:20260316T191557Z
LAST-MODIFIED:20260316T191947Z
UID:10000452-1778868000-1778873400@thepotteryplace.com
SUMMARY:Make With Me Date Night
DESCRIPTION:Join us for this Cutesy Date Night Event!\nGrab your sweetie\, Partner\, or Best Friend & paint this cuddly duo! Call or go online to Reserve your spot today! \nRegistration & pre-payment required \nWe are not able to hold event spaces without payment. If you cannot attend\, please let us know as soon as possible. Though we do not issue refunds for cancellations\, if there is a waitlist\, or the class is not yet full\, we do issue studio credit on a case by case basis.
URL:https://thepotteryplace.com/event/make-with-me-date-night/
LOCATION:The Pottery Place\, 1475 WESTERN AVE\, Albany\, 12203\, United States
ATTACH;FMTTYPE=image/jpeg:https://thepotteryplace.com/wp-content/uploads/2026/03/28619b6d-97a1-4c53-a12b-9e4474356d26.jpg
END:VEVENT
END:VCALENDAR