BEGIN:VCALENDAR
VERSION:2.0
PRODID:-//The Pottery Place - ECPv6.2.9//NONSGML v1.0//EN
CALSCALE:GREGORIAN
METHOD:PUBLISH
X-WR-CALNAME:The Pottery Place
X-ORIGINAL-URL:https://thepotteryplace.com
X-WR-CALDESC:Events for The Pottery Place
REFRESH-INTERVAL;VALUE=DURATION:PT1H
X-Robots-Tag:noindex
X-PUBLISHED-TTL:PT1H
BEGIN:VTIMEZONE
TZID:America/New_York
BEGIN:DAYLIGHT
TZOFFSETFROM:-0500
TZOFFSETTO:-0400
TZNAME:EDT
DTSTART:20260308T070000
END:DAYLIGHT
BEGIN:STANDARD
TZOFFSETFROM:-0400
TZOFFSETTO:-0500
TZNAME:EST
DTSTART:20261101T060000
END:STANDARD
END:VTIMEZONE
BEGIN:VEVENT
DTSTART;TZID=America/New_York:20260626T183000
DTEND;TZID=America/New_York:20260626T193000
DTSTAMP:20260425T125152
CREATED:20260423T174738Z
LAST-MODIFIED:20260423T175936Z
UID:10000458-1782498600-1782502200@thepotteryplace.com
SUMMARY:STORYTIME-MAISY MAKES LEMONADE-AGES 2-6
DESCRIPTION:Storytime: Maisy Makes Lemonade\nProject: Cafe Cup\nWhen: Friday\, June 26th – 6:30-7:30pm\nCost: $24.00\nRegistration & Pre-payment Required\nWe are not able to hold class spaces without payment. If you cannot attend a program you have reserved\, please let us know as soon as possible. Though there will be no refunds for cancellations\, if we have a wait list or the class isn’t full we may be able to issue you a studio credit.
URL:https://thepotteryplace.com/event/storytime-maisy-makes-lemonade-ages-2-6/
ATTACH;FMTTYPE=image/png:https://thepotteryplace.com/wp-content/uploads/2026/04/storytime.png
END:VEVENT
BEGIN:VEVENT
DTSTART;TZID=America/New_York:20260627T103000
DTEND;TZID=America/New_York:20260627T113000
DTSTAMP:20260425T125152
CREATED:20260423T180855Z
LAST-MODIFIED:20260423T180859Z
UID:10000459-1782556200-1782559800@thepotteryplace.com
SUMMARY:STORYTIME-MAISY MAKES LEMONADE-AGES 2-6-SATURDAY
DESCRIPTION:Storytime: Maisy Makes Lemonade\nProject: Cafe Cup\nWhen: Saturday\, June 27th – 10:30-11:30am\nCost: $24.00\nRegistration & Pre-payment Required\nWe are not able to hold class spaces without payment. If you cannot attend a program you have reserved\, please let us know as soon as possible. Though there will be no refunds for cancellations\, if we have a wait list or the class isn’t full we may be able to issue you a studio credit.
URL:https://thepotteryplace.com/event/storytime-maisy-makes-lemonade-ages-2-6-saturday/
ATTACH;FMTTYPE=image/png:https://thepotteryplace.com/wp-content/uploads/2026/04/storytime.png
END:VEVENT
END:VCALENDAR