BEGIN:VCALENDAR
VERSION:2.0
PRODID:-//The Pottery Place - ECPv6.2.9//NONSGML v1.0//EN
CALSCALE:GREGORIAN
METHOD:PUBLISH
X-WR-CALNAME:The Pottery Place
X-ORIGINAL-URL:https://thepotteryplace.com
X-WR-CALDESC:Events for The Pottery Place
REFRESH-INTERVAL;VALUE=DURATION:PT1H
X-Robots-Tag:noindex
X-PUBLISHED-TTL:PT1H
BEGIN:VTIMEZONE
TZID:America/New_York
BEGIN:DAYLIGHT
TZOFFSETFROM:-0500
TZOFFSETTO:-0400
TZNAME:EDT
DTSTART:20230312T070000
END:DAYLIGHT
BEGIN:STANDARD
TZOFFSETFROM:-0400
TZOFFSETTO:-0500
TZNAME:EST
DTSTART:20231105T060000
END:STANDARD
END:VTIMEZONE
BEGIN:VEVENT
DTSTART;TZID=America/New_York:20230325T103000
DTEND;TZID=America/New_York:20230325T113000
DTSTAMP:20260425T144223
CREATED:20230112T205154Z
LAST-MODIFIED:20230112T212847Z
UID:10000280-1679740200-1679743800@thepotteryplace.com
SUMMARY:STORYTIME 2-6 YEAR OLDS - TOO MANY CARROTS-SATURDAY
DESCRIPTION:STORYTIME AT THE POTTERY PLACE IS A SPECIAL STORY HOUR DESIGNED FOR 2-6 YEAR OLDS AND THEIR PARENTS. OUR STUDIO MANAGER AND ART INSTRUCTOR\, TAIRYN WILL READ THE CHILDREN A STORY AND THEN THEY WILL PAINT A PIECE THAT COORDINATES WITH THAT STORY.\nStory: Too Many Carrots\nProject: Bunny With Carrot\nWhen: Saturday\, March 25th 10:30-11:30am\nCost: $22 per child\n*Registration and prepayment required
URL:https://thepotteryplace.com/event/storytime-2-6-year-olds-too-many-carrots-2/
LOCATION:1475 Western Ave\, Albany\, NY\, 12203\, United States
ATTACH;FMTTYPE=image/jpeg:https://thepotteryplace.com/wp-content/uploads/2023/01/too-many-carrots.jpg
GEO:42.6840936;-73.839612
X-APPLE-STRUCTURED-LOCATION;VALUE=URI;X-ADDRESS=1475 Western Ave Albany NY 12203 United States;X-APPLE-RADIUS=500;X-TITLE=1475 Western Ave:geo:-73.839612,42.6840936
END:VEVENT
END:VCALENDAR