BEGIN:VCALENDAR
VERSION:2.0
PRODID:-//The Pottery Place - ECPv6.2.9//NONSGML v1.0//EN
CALSCALE:GREGORIAN
METHOD:PUBLISH
X-ORIGINAL-URL:https://thepotteryplace.com
X-WR-CALDESC:Events for The Pottery Place
REFRESH-INTERVAL;VALUE=DURATION:PT1H
X-Robots-Tag:noindex
X-PUBLISHED-TTL:PT1H
BEGIN:VTIMEZONE
TZID:America/New_York
BEGIN:DAYLIGHT
TZOFFSETFROM:-0500
TZOFFSETTO:-0400
TZNAME:EDT
DTSTART:20220313T070000
END:DAYLIGHT
BEGIN:STANDARD
TZOFFSETFROM:-0400
TZOFFSETTO:-0500
TZNAME:EST
DTSTART:20221106T060000
END:STANDARD
END:VTIMEZONE
BEGIN:VEVENT
DTSTART;TZID=America/New_York:20221021T183000
DTEND;TZID=America/New_York:20221021T193000
DTSTAMP:20260424T093402
CREATED:20220804T014724Z
LAST-MODIFIED:20221012T182829Z
UID:10000264-1666377000-1666380600@thepotteryplace.com
SUMMARY:STORYTIME-THE LITTLE GHOST WHO LOST HER BOO-2-6 YEAR OLDS
DESCRIPTION:STORYTIME AT THE POTTERY PLACE IS A SPECIAL STORY HOUR DESIGNED FOR 2-6 YEAR OLDS AND THEIR PARENTS. OUR STUDIO MANAGER AND ART INSTRUCTOR\, TAIRYN WILL READ THE CHILDREN A STORY AND THEN THEY WILL PAINT A PIECE THAT COORDINATES WITH THAT STORY.\nSTORY: THE LITTLE GHOST WHO LOST HER BOO \nPROJECT: GHOST BANK \nDATE: FRIDAY\, OCT 21ST \nTIME: 6:30-7:30 \nCOST: $22 PER PAINTER \nRegistration & Prepayment Required \nWe are not able to hold class spaces without payment. If you cannot attend a program you have reserved\, please let us know as soon as possible. Though there will be no refunds for cancellations\, if we have a wait list or the class isn’t full we may be able to issue you a studio credit.
URL:https://thepotteryplace.com/event/storytime-the-little-ghost-who-lost-her-boo-2-6-year-olds/
LOCATION:1475 Western Ave\, Albany\, NY\, 12203\, United States
ATTACH;FMTTYPE=image/jpeg:https://thepotteryplace.com/wp-content/uploads/2022/08/THE-LITTLE-GHOST-WHO-LOST-HER-BOO.jpg
GEO:42.6840936;-73.839612
X-APPLE-STRUCTURED-LOCATION;VALUE=URI;X-ADDRESS=1475 Western Ave Albany NY 12203 United States;X-APPLE-RADIUS=500;X-TITLE=1475 Western Ave:geo:-73.839612,42.6840936
END:VEVENT
END:VCALENDAR