BEGIN:VCALENDAR
VERSION:2.0
PRODID:-//The Pottery Place - ECPv6.2.9//NONSGML v1.0//EN
CALSCALE:GREGORIAN
METHOD:PUBLISH
X-ORIGINAL-URL:https://thepotteryplace.com
X-WR-CALDESC:Events for The Pottery Place
REFRESH-INTERVAL;VALUE=DURATION:PT1H
X-Robots-Tag:noindex
X-PUBLISHED-TTL:PT1H
BEGIN:VTIMEZONE
TZID:America/New_York
BEGIN:DAYLIGHT
TZOFFSETFROM:-0500
TZOFFSETTO:-0400
TZNAME:EDT
DTSTART:20220313T070000
END:DAYLIGHT
BEGIN:STANDARD
TZOFFSETFROM:-0400
TZOFFSETTO:-0500
TZNAME:EST
DTSTART:20221106T060000
END:STANDARD
END:VTIMEZONE
BEGIN:VEVENT
DTSTART;TZID=America/New_York:20220722T100000
DTEND;TZID=America/New_York:20220722T140000
DTSTAMP:20260424T112516
CREATED:20220131T035542Z
LAST-MODIFIED:20220131T041626Z
UID:10000208-1658484000-1658498400@thepotteryplace.com
SUMMARY:1 DAY MULTIMEDIA PET ART CAMP
DESCRIPTION:As with most things Art Camps at The Pottery Place will look a little different again this year\n-Attendance size will be limited to prevent overcrowding\n-As of right now\, masks are required in the studio but we will be following the current CDC guidelines at the time of camp.\n-Snack will be provided\n-Projects will be ready for pick up in 1 week.\nPET CAMP\n\nAges-6-14\nDate-Friday\,  July 22nd\nTime-10-2pm\nCost-$60+tax per camper\, per session.\n*some materials the campers will be using may stain\, old clothes are recommended.
URL:https://thepotteryplace.com/event/1-day-multimedia-pet-camp/
LOCATION:1475 Western Ave\, Albany\, NY\, 12203\, United States
ATTACH;FMTTYPE=image/jpeg:https://thepotteryplace.com/wp-content/uploads/2022/01/9C346521-74CD-4FF6-8B89-743F9322CCB9.jpeg
GEO:42.6840936;-73.839612
X-APPLE-STRUCTURED-LOCATION;VALUE=URI;X-ADDRESS=1475 Western Ave Albany NY 12203 United States;X-APPLE-RADIUS=500;X-TITLE=1475 Western Ave:geo:-73.839612,42.6840936
END:VEVENT
BEGIN:VEVENT
DTSTART;TZID=America/New_York:20220722T183000
DTEND;TZID=America/New_York:20220722T203000
DTSTAMP:20260424T112516
CREATED:20220522T153614Z
LAST-MODIFIED:20220701T211019Z
UID:10000212-1658514600-1658521800@thepotteryplace.com
SUMMARY:CHRISTMAS IN JULY! GRANDMAS TREE CLASS 16+
DESCRIPTION:Grandmas Trees are back! Come join us for our first Tree class of the year. Choose from our extensive choice of Specialty Glazes or underglazes to create a one of a kind tree just for you or a loved one. Who doesnt love these trees!\n* Dont wait! This class will fill fast!
URL:https://thepotteryplace.com/event/christmas-in-july-grandmas-tree-class-16/
LOCATION:1475 Western Ave\, Albany\, NY\, 12203\, United States
ATTACH;FMTTYPE=image/jpeg:https://thepotteryplace.com/wp-content/uploads/2022/05/97396CEA-0E3D-4E06-BF36-0411F73A5317.jpeg
GEO:42.6840936;-73.839612
X-APPLE-STRUCTURED-LOCATION;VALUE=URI;X-ADDRESS=1475 Western Ave Albany NY 12203 United States;X-APPLE-RADIUS=500;X-TITLE=1475 Western Ave:geo:-73.839612,42.6840936
END:VEVENT
END:VCALENDAR