BEGIN:VCALENDAR
VERSION:2.0
PRODID:-//The Pottery Place - ECPv6.2.9//NONSGML v1.0//EN
CALSCALE:GREGORIAN
METHOD:PUBLISH
X-ORIGINAL-URL:https://thepotteryplace.com
X-WR-CALDESC:Events for The Pottery Place
REFRESH-INTERVAL;VALUE=DURATION:PT1H
X-Robots-Tag:noindex
X-PUBLISHED-TTL:PT1H
BEGIN:VTIMEZONE
TZID:America/New_York
BEGIN:DAYLIGHT
TZOFFSETFROM:-0500
TZOFFSETTO:-0400
TZNAME:EDT
DTSTART:20220313T070000
END:DAYLIGHT
BEGIN:STANDARD
TZOFFSETFROM:-0400
TZOFFSETTO:-0500
TZNAME:EST
DTSTART:20221106T060000
END:STANDARD
END:VTIMEZONE
BEGIN:VEVENT
DTSTART;TZID=America/New_York:20220420T173000
DTEND;TZID=America/New_York:20220420T200000
DTSTAMP:20260420T053130
CREATED:20200121T034830Z
LAST-MODIFIED:20220401T232831Z
UID:10000246-1650475800-1650484800@thepotteryplace.com
SUMMARY:POT PAINTING PARTY
DESCRIPTION:THIS PARTY IS FOR ADULTS 21+ ONLY.\nID REQUIRED FOR ENTRY.\nConsumption is not allowed in the studio.\nJoin us for a painting party celebrating the greenest of all holidays\, 4/20!\nWhen: Wednesday\, April 20th\, 5:30-8 pm\nCost: $10 + cost of pottery\n$10 covers the cost of the party and is taken at booking\, non-refundable if you cancel or don’t show up. The night of the party you will choose and purchase the pottery you’d like to paint. Each attendee should be painting their own piece.\nWe will have functional and themed pieces as well as stencils and ideas that can be done on a variety of pieces.\nLight snacks will be served towards the end.\nTHIS PARTY IS FOR ADULTS 21+ ONLY.\nID REQUIRED FOR ENTRY.\nConsumption is not allowed in the studio.\n\nPottery ready for pick up 1 week later.
URL:https://thepotteryplace.com/event/pot-painting-party/
LOCATION:1475 Western Ave\, Albany\, NY\, 12203\, United States
ATTACH;FMTTYPE=image/jpeg:https://thepotteryplace.com/wp-content/uploads/2020/01/POT.jpg
GEO:42.6840936;-73.839612
X-APPLE-STRUCTURED-LOCATION;VALUE=URI;X-ADDRESS=1475 Western Ave Albany NY 12203 United States;X-APPLE-RADIUS=500;X-TITLE=1475 Western Ave:geo:-73.839612,42.6840936
END:VEVENT
END:VCALENDAR